Package: fmrs Version: 1.17.0 Maintainer: Farhad Shokoohi MaintainerEmail: shokoohi at icloud.com git_url: https://git.bioconductor.org/packages/fmrs git_branch: devel git_last_commit: 6030d8e git_last_commit_date: 2024-10-29 10:48:06 -0500 (Tue, 29 Oct 2024)