Package: fmrs Version: 1.17.0 Command: /Library/Frameworks/R.framework/Resources/bin/R CMD INSTALL fmrs StartedAt: 2025-02-09 15:19:22 -0500 (Sun, 09 Feb 2025) EndedAt: 2025-02-09 15:19:26 -0500 (Sun, 09 Feb 2025) EllapsedTime: 4.3 seconds RetCode: 0 Status: OK