Package: fmrs Version: 1.17.0 Command: /Library/Frameworks/R.framework/Resources/bin/R CMD check --install=check:fmrs.install-out.txt --library=/Library/Frameworks/R.framework/Resources/library --no-vignettes --timings fmrs_1.17.0.tar.gz StartedAt: 2025-02-12 20:35:06 -0500 (Wed, 12 Feb 2025) EndedAt: 2025-02-12 20:36:06 -0500 (Wed, 12 Feb 2025) EllapsedTime: 59.7 seconds RetCode: 0 Status: OK CheckDir: fmrs.Rcheck Warnings: 0