Package: fmrs Version: 1.17.0 Command: /home/biocbuild/bbs-3.21-bioc/R/bin/R CMD build --keep-empty-dirs --no-resave-data fmrs StartedAt: 2025-02-09 17:17:32 -0500 (Sun, 09 Feb 2025) EndedAt: 2025-02-09 17:17:48 -0500 (Sun, 09 Feb 2025) EllapsedTime: 16.0 seconds RetCode: 0 Status: OK PackageFile: fmrs_1.17.0.tar.gz PackageFileSize: 47.12 KiB