Package: fmrs Version: 1.17.0 Command: rm -rf fmrs.buildbin-libdir && mkdir fmrs.buildbin-libdir && E:\biocbuild\bbs-3.21-bioc\R\bin\R.exe CMD INSTALL --build --library=fmrs.buildbin-libdir fmrs_1.17.0.tar.gz StartedAt: 2025-02-10 07:46:29 -0500 (Mon, 10 Feb 2025) EndedAt: 2025-02-10 07:46:58 -0500 (Mon, 10 Feb 2025) EllapsedTime: 29.5 seconds RetCode: 0 Status: OK PackageFile: fmrs_1.17.0.zip PackageFileSize: 208.4 KiB