Package: fobitools Version: 1.15.1 Command: rm -rf fobitools.buildbin-libdir && mkdir fobitools.buildbin-libdir && /Users/biocbuild/BBS/utils/build-universal.sh fobitools_1.15.1.tar.gz /Library/Frameworks/R.framework/Resources/bin/R fobitools.buildbin-libdir StartedAt: 2025-02-09 22:14:48 -0500 (Sun, 09 Feb 2025) EndedAt: 2025-02-09 22:14:54 -0500 (Sun, 09 Feb 2025) EllapsedTime: 6.1 seconds RetCode: 0 Status: OK PackageFile: fobitools_1.15.1.tgz PackageFileSize: 5.439 MiB