Package: fobitools Version: 1.15.1 Command: /Library/Frameworks/R.framework/Resources/bin/R CMD INSTALL fobitools StartedAt: 2025-02-09 15:23:53 -0500 (Sun, 09 Feb 2025) EndedAt: 2025-02-09 15:23:57 -0500 (Sun, 09 Feb 2025) EllapsedTime: 4.6 seconds RetCode: 0 Status: OK