Package: fobitools Version: 1.15.1 Command: /Library/Frameworks/R.framework/Resources/bin/R CMD build --keep-empty-dirs --no-resave-data fobitools StartedAt: 2025-02-12 16:45:32 -0500 (Wed, 12 Feb 2025) EndedAt: 2025-02-12 16:46:53 -0500 (Wed, 12 Feb 2025) EllapsedTime: 81.2 seconds RetCode: 0 Status: OK PackageFile: fobitools_1.15.1.tar.gz PackageFileSize: 4.805 MiB