Package: fobitools Version: 1.15.1 Command: /Library/Frameworks/R.framework/Resources/bin/R CMD INSTALL fobitools StartedAt: 2025-02-09 15:37:48 -0500 (Sun, 09 Feb 2025) EndedAt: 2025-02-09 15:38:06 -0500 (Sun, 09 Feb 2025) EllapsedTime: 17.6 seconds RetCode: 0 Status: OK