Package: fobitools Version: 1.15.1 Command: rm -rf fobitools.buildbin-libdir && mkdir fobitools.buildbin-libdir && E:\biocbuild\bbs-3.21-bioc\R\bin\R.exe CMD INSTALL --build --library=fobitools.buildbin-libdir fobitools_1.15.1.tar.gz StartedAt: 2025-02-13 07:57:18 -0500 (Thu, 13 Feb 2025) EndedAt: 2025-02-13 07:57:46 -0500 (Thu, 13 Feb 2025) EllapsedTime: 27.9 seconds RetCode: 0 Status: OK PackageFile: fobitools_1.15.1.zip PackageFileSize: 2.473 MiB