Package: fobitools Version: 1.15.1 Command: chmod a+r fobitools -R && E:\biocbuild\bbs-3.21-bioc\R\bin\R.exe CMD build --keep-empty-dirs --no-resave-data fobitools StartedAt: 2025-02-09 18:46:32 -0500 (Sun, 09 Feb 2025) EndedAt: 2025-02-09 18:48:20 -0500 (Sun, 09 Feb 2025) EllapsedTime: 108.3 seconds RetCode: 0 Status: OK PackageFile: fobitools_1.15.1.tar.gz PackageFileSize: 3.14 MiB