Package: frmaTools Version: 1.59.0 Command: /Library/Frameworks/R.framework/Resources/bin/R CMD build --keep-empty-dirs --no-resave-data frmaTools StartedAt: 2025-02-04 16:22:16 -0500 (Tue, 04 Feb 2025) EndedAt: 2025-02-04 16:22:24 -0500 (Tue, 04 Feb 2025) EllapsedTime: 8.1 seconds RetCode: 0 Status: OK PackageFile: frmaTools_1.59.0.tar.gz PackageFileSize: 157.8 KiB