Package: frmaTools Version: 1.59.0 Command: /home/biocbuild/R/R/bin/R CMD build --keep-empty-dirs --no-resave-data frmaTools StartedAt: 2025-01-28 22:59:11 -0000 (Tue, 28 Jan 2025) EndedAt: 2025-01-28 22:59:29 -0000 (Tue, 28 Jan 2025) EllapsedTime: 18.0 seconds RetCode: 0 Status: OK PackageFile: frmaTools_1.59.0.tar.gz PackageFileSize: 152.8 KiB