Package: frmaTools Version: 1.59.0 Command: /Library/Frameworks/R.framework/Resources/bin/R CMD check --install=check:frmaTools.install-out.txt --library=/Library/Frameworks/R.framework/Resources/library --no-vignettes --timings frmaTools_1.59.0.tar.gz StartedAt: 2025-02-04 20:34:39 -0500 (Tue, 04 Feb 2025) EndedAt: 2025-02-04 20:34:45 -0500 (Tue, 04 Feb 2025) EllapsedTime: 5.7 seconds RetCode: 1 Status: ERROR CheckDir: frmaTools.Rcheck Warnings: NA