Package: frmaTools Version: 1.59.0 Command: /Library/Frameworks/R.framework/Resources/bin/R CMD INSTALL frmaTools StartedAt: 2025-02-04 15:05:57 -0500 (Tue, 04 Feb 2025) EndedAt: 2025-02-04 15:06:34 -0500 (Tue, 04 Feb 2025) EllapsedTime: 37.1 seconds RetCode: 0 Status: OK