Package: frmaTools Version: 1.59.0 Command: /home/biocbuild/bbs-3.21-bioc/R/bin/R CMD check --install=check:frmaTools.install-out.txt --library=/home/biocbuild/bbs-3.21-bioc/R/site-library --timings frmaTools_1.59.0.tar.gz StartedAt: 2025-02-04 22:24:40 -0500 (Tue, 04 Feb 2025) EndedAt: 2025-02-04 22:24:44 -0500 (Tue, 04 Feb 2025) EllapsedTime: 4.0 seconds RetCode: 1 Status: ERROR CheckDir: frmaTools.Rcheck Warnings: NA