Package: frmaTools Version: 1.59.0 Command: chmod a+r frmaTools -R && E:\biocbuild\bbs-3.21-bioc\R\bin\R.exe CMD build --keep-empty-dirs --no-resave-data frmaTools StartedAt: 2025-02-04 18:49:48 -0500 (Tue, 04 Feb 2025) EndedAt: 2025-02-04 18:50:16 -0500 (Tue, 04 Feb 2025) EllapsedTime: 27.9 seconds RetCode: 0 Status: OK PackageFile: frmaTools_1.59.0.tar.gz PackageFileSize: 75.14 KiB