Package: frmaTools Version: 1.59.0 Command: E:\biocbuild\bbs-3.21-bioc\R\bin\R.exe CMD check --no-multiarch --install=check:frmaTools.install-out.txt --library=E:\biocbuild\bbs-3.21-bioc\R\library --no-vignettes --timings frmaTools_1.59.0.tar.gz StartedAt: 2025-02-05 01:41:20 -0500 (Wed, 05 Feb 2025) EndedAt: 2025-02-05 01:42:08 -0500 (Wed, 05 Feb 2025) EllapsedTime: 48.1 seconds RetCode: 0 Status: OK CheckDir: frmaTools.Rcheck Warnings: 0