Package: funOmics Version: 1.1.0 Command: /Library/Frameworks/R.framework/Resources/bin/R CMD check --install=check:funOmics.install-out.txt --library=/Library/Frameworks/R.framework/Resources/library --no-vignettes --timings funOmics_1.1.0.tar.gz StartedAt: 2025-02-12 20:36:04 -0500 (Wed, 12 Feb 2025) EndedAt: 2025-02-12 20:39:56 -0500 (Wed, 12 Feb 2025) EllapsedTime: 231.4 seconds RetCode: 0 Status: OK CheckDir: funOmics.Rcheck Warnings: 0