Package: funtooNorm Version: 1.31.0 Command: /Library/Frameworks/R.framework/Resources/bin/R CMD build --keep-empty-dirs --no-resave-data funtooNorm StartedAt: 2025-02-04 16:22:20 -0500 (Tue, 04 Feb 2025) EndedAt: 2025-02-04 16:22:21 -0500 (Tue, 04 Feb 2025) EllapsedTime: 1.0 seconds RetCode: 0 Status: OK PackageFile: funtooNorm_1.31.0.tar.gz PackageFileSize: 2.458 MiB