Package: funtooNorm Version: 1.31.0 Command: /Library/Frameworks/R.framework/Resources/bin/R CMD check --install=check:funtooNorm.install-out.txt --library=/Library/Frameworks/R.framework/Resources/library --no-vignettes --timings funtooNorm_1.31.0.tar.gz StartedAt: 2025-02-09 19:16:38 -0500 (Sun, 09 Feb 2025) EndedAt: 2025-02-09 19:19:21 -0500 (Sun, 09 Feb 2025) EllapsedTime: 163.0 seconds RetCode: 0 Status: WARNINGS CheckDir: funtooNorm.Rcheck Warnings: 2