Package: funtooNorm Version: 1.31.0 Command: /Library/Frameworks/R.framework/Resources/bin/R CMD INSTALL funtooNorm StartedAt: 2025-02-09 15:27:07 -0500 (Sun, 09 Feb 2025) EndedAt: 2025-02-09 15:27:26 -0500 (Sun, 09 Feb 2025) EllapsedTime: 19.1 seconds RetCode: 0 Status: OK