Package: funtooNorm Version: 1.31.0 Command: /home/biocbuild/R/R/bin/R CMD build --keep-empty-dirs --no-resave-data funtooNorm StartedAt: 2025-01-28 22:59:27 -0000 (Tue, 28 Jan 2025) EndedAt: 2025-01-28 22:59:28 -0000 (Tue, 28 Jan 2025) EllapsedTime: 1.0 seconds RetCode: 0 Status: OK PackageFile: funtooNorm_1.31.0.tar.gz PackageFileSize: 2.458 MiB