Package: funtooNorm Version: 1.31.0 Command: rm -rf funtooNorm.buildbin-libdir && mkdir funtooNorm.buildbin-libdir && /Users/biocbuild/BBS/utils/build-universal.sh funtooNorm_1.31.0.tar.gz /Library/Frameworks/R.framework/Resources/bin/R funtooNorm.buildbin-libdir StartedAt: 2025-02-10 00:54:10 -0500 (Mon, 10 Feb 2025) EndedAt: 2025-02-10 00:55:16 -0500 (Mon, 10 Feb 2025) EllapsedTime: 66.1 seconds RetCode: 0 Status: OK PackageFile: funtooNorm_1.31.0.tgz PackageFileSize: 1.144 MiB