Package: funtooNorm Version: 1.31.0 Command: /Library/Frameworks/R.framework/Resources/bin/R CMD check --install=check:funtooNorm.install-out.txt --library=/Library/Frameworks/R.framework/Resources/library --no-vignettes --timings funtooNorm_1.31.0.tar.gz StartedAt: 2025-02-09 20:47:47 -0500 (Sun, 09 Feb 2025) EndedAt: 2025-02-09 20:56:11 -0500 (Sun, 09 Feb 2025) EllapsedTime: 503.7 seconds RetCode: 0 Status: WARNINGS CheckDir: funtooNorm.Rcheck Warnings: 2