Package: funtooNorm Version: 1.31.0 Command: /Library/Frameworks/R.framework/Resources/bin/R CMD INSTALL funtooNorm StartedAt: 2025-02-09 15:44:04 -0500 (Sun, 09 Feb 2025) EndedAt: 2025-02-09 15:45:06 -0500 (Sun, 09 Feb 2025) EllapsedTime: 61.7 seconds RetCode: 0 Status: OK