Package: funtooNorm Version: 1.31.0 Command: /home/biocbuild/bbs-3.21-bioc/R/bin/R CMD INSTALL funtooNorm StartedAt: 2025-02-09 15:44:50 -0500 (Sun, 09 Feb 2025) EndedAt: 2025-02-09 15:45:36 -0500 (Sun, 09 Feb 2025) EllapsedTime: 45.5 seconds RetCode: 0 Status: OK