Package: funtooNorm Version: 1.31.0 Command: rm -rf funtooNorm.buildbin-libdir && mkdir funtooNorm.buildbin-libdir && E:\biocbuild\bbs-3.21-bioc\R\bin\R.exe CMD INSTALL --build --library=funtooNorm.buildbin-libdir funtooNorm_1.31.0.tar.gz StartedAt: 2025-02-10 07:46:45 -0500 (Mon, 10 Feb 2025) EndedAt: 2025-02-10 07:47:56 -0500 (Mon, 10 Feb 2025) EllapsedTime: 70.9 seconds RetCode: 0 Status: OK PackageFile: funtooNorm_1.31.0.zip PackageFileSize: 1.146 MiB