Package: funtooNorm Version: 1.31.0 Command: chmod a+r funtooNorm -R && E:\biocbuild\bbs-3.21-bioc\R\bin\R.exe CMD build --keep-empty-dirs --no-resave-data funtooNorm StartedAt: 2025-02-12 18:51:28 -0500 (Wed, 12 Feb 2025) EndedAt: 2025-02-12 18:51:31 -0500 (Wed, 12 Feb 2025) EllapsedTime: 2.8 seconds RetCode: 0 Status: OK PackageFile: funtooNorm_1.31.0.tar.gz PackageFileSize: 2.458 MiB