Package: gCrisprTools Version: 2.13.0 Command: /Library/Frameworks/R.framework/Resources/bin/R CMD build --keep-empty-dirs --no-resave-data gCrisprTools StartedAt: 2025-02-09 16:49:14 -0500 (Sun, 09 Feb 2025) EndedAt: 2025-02-09 16:53:32 -0500 (Sun, 09 Feb 2025) EllapsedTime: 257.3 seconds RetCode: 0 Status: OK PackageFile: gCrisprTools_2.13.0.tar.gz PackageFileSize: 4.707 MiB