Package: gCrisprTools Version: 2.13.0 Command: /Library/Frameworks/R.framework/Resources/bin/R CMD check --install=check:gCrisprTools.install-out.txt --library=/Library/Frameworks/R.framework/Resources/library --no-vignettes --timings gCrisprTools_2.13.0.tar.gz StartedAt: 2025-02-09 20:49:03 -0500 (Sun, 09 Feb 2025) EndedAt: 2025-02-09 20:55:48 -0500 (Sun, 09 Feb 2025) EllapsedTime: 404.6 seconds RetCode: 0 Status: OK CheckDir: gCrisprTools.Rcheck Warnings: 0