Package: gCrisprTools Version: 2.13.0 Command: /home/biocbuild/bbs-3.21-bioc/R/bin/R CMD check --install=check:gCrisprTools.install-out.txt --library=/home/biocbuild/bbs-3.21-bioc/R/site-library --timings gCrisprTools_2.13.0.tar.gz StartedAt: 2025-02-09 22:27:43 -0500 (Sun, 09 Feb 2025) EndedAt: 2025-02-09 22:36:59 -0500 (Sun, 09 Feb 2025) EllapsedTime: 555.8 seconds RetCode: 0 Status: OK CheckDir: gCrisprTools.Rcheck Warnings: 0