Package: gCrisprTools Version: 2.13.0 Command: chmod a+r gCrisprTools -R && E:\biocbuild\bbs-3.21-bioc\R\bin\R.exe CMD build --keep-empty-dirs --no-resave-data gCrisprTools StartedAt: 2025-02-09 18:49:15 -0500 (Sun, 09 Feb 2025) EndedAt: 2025-02-09 18:53:42 -0500 (Sun, 09 Feb 2025) EllapsedTime: 267.1 seconds RetCode: 0 Status: OK PackageFile: gCrisprTools_2.13.0.tar.gz PackageFileSize: 3.053 MiB