Package: gCrisprTools Version: 2.13.0 Command: E:\biocbuild\bbs-3.21-bioc\R\bin\R.exe CMD check --no-multiarch --install=check:gCrisprTools.install-out.txt --library=E:\biocbuild\bbs-3.21-bioc\R\library --no-vignettes --timings gCrisprTools_2.13.0.tar.gz StartedAt: 2025-02-10 01:15:59 -0500 (Mon, 10 Feb 2025) EndedAt: 2025-02-10 01:24:17 -0500 (Mon, 10 Feb 2025) EllapsedTime: 498.1 seconds RetCode: 0 Status: OK CheckDir: gCrisprTools.Rcheck Warnings: 0