Package: gCrisprTools Version: 2.13.0 Command: E:\biocbuild\bbs-3.21-bioc\R\bin\R.exe CMD INSTALL gCrisprTools StartedAt: 2025-02-09 16:10:22 -0500 (Sun, 09 Feb 2025) EndedAt: 2025-02-09 16:11:20 -0500 (Sun, 09 Feb 2025) EllapsedTime: 57.7 seconds RetCode: 0 Status: OK