Package: gDR Version: 1.5.1 Command: rm -rf gDR.buildbin-libdir && mkdir gDR.buildbin-libdir && /Users/biocbuild/BBS/utils/build-universal.sh gDR_1.5.1.tar.gz /Library/Frameworks/R.framework/Resources/bin/R gDR.buildbin-libdir StartedAt: 2025-02-10 00:54:28 -0500 (Mon, 10 Feb 2025) EndedAt: 2025-02-10 00:55:03 -0500 (Mon, 10 Feb 2025) EllapsedTime: 34.8 seconds RetCode: 0 Status: OK PackageFile: gDR_1.5.1.tgz PackageFileSize: 278.9 KiB