Package: gDR Version: 1.5.1 Command: /Library/Frameworks/R.framework/Resources/bin/R CMD check --install=check:gDR.install-out.txt --library=/Library/Frameworks/R.framework/Resources/library --no-vignettes --timings gDR_1.5.1.tar.gz StartedAt: 2025-02-12 20:37:59 -0500 (Wed, 12 Feb 2025) EndedAt: 2025-02-12 20:41:20 -0500 (Wed, 12 Feb 2025) EllapsedTime: 201.0 seconds RetCode: 0 Status: OK CheckDir: gDR.Rcheck Warnings: 0