Package: gDR Version: 1.5.1 Command: /home/biocbuild/bbs-3.21-bioc/R/bin/R CMD check --install=check:gDR.install-out.txt --library=/home/biocbuild/bbs-3.21-bioc/R/site-library --timings gDR_1.5.1.tar.gz StartedAt: 2025-02-09 22:28:32 -0500 (Sun, 09 Feb 2025) EndedAt: 2025-02-09 22:31:52 -0500 (Sun, 09 Feb 2025) EllapsedTime: 200.3 seconds RetCode: 0 Status: OK CheckDir: gDR.Rcheck Warnings: 0