Package: gDR Version: 1.5.1 Command: /home/biocbuild/bbs-3.21-bioc/R/bin/R CMD INSTALL gDR StartedAt: 2025-02-09 15:38:33 -0500 (Sun, 09 Feb 2025) EndedAt: 2025-02-09 15:38:56 -0500 (Sun, 09 Feb 2025) EllapsedTime: 23.7 seconds RetCode: 0 Status: OK