Package: gDR Version: 1.5.1 Command: rm -rf gDR.buildbin-libdir && mkdir gDR.buildbin-libdir && E:\biocbuild\bbs-3.21-bioc\R\bin\R.exe CMD INSTALL --build --library=gDR.buildbin-libdir gDR_1.5.1.tar.gz StartedAt: 2025-02-10 07:47:24 -0500 (Mon, 10 Feb 2025) EndedAt: 2025-02-10 07:47:52 -0500 (Mon, 10 Feb 2025) EllapsedTime: 27.5 seconds RetCode: 0 Status: OK PackageFile: gDR_1.5.1.zip PackageFileSize: 283.5 KiB