Package: gDRcore Version: 1.5.4 Maintainer: Arkadiusz Gladki MaintainerEmail: gladki.arkadiusz at gmail.com git_url: https://git.bioconductor.org/packages/gDRcore git_branch: devel git_last_commit: f6235ed git_last_commit_date: 2025-01-22 05:26:50 -0500 (Wed, 22 Jan 2025)