Package: gDRcore Version: 1.5.4 Command: rm -rf gDRcore.buildbin-libdir && mkdir gDRcore.buildbin-libdir && /Users/biocbuild/BBS/utils/build-universal.sh gDRcore_1.5.4.tar.gz /Library/Frameworks/R.framework/Resources/bin/R gDRcore.buildbin-libdir StartedAt: 2025-02-12 22:20:22 -0500 (Wed, 12 Feb 2025) EndedAt: 2025-02-12 22:20:30 -0500 (Wed, 12 Feb 2025) EllapsedTime: 8.1 seconds RetCode: 0 Status: OK PackageFile: gDRcore_1.5.4.tgz PackageFileSize: 1.229 MiB