Package: gDRcore Version: 1.5.4 Command: /home/biocbuild/bbs-3.21-bioc/R/bin/R CMD build --keep-empty-dirs --no-resave-data gDRcore StartedAt: 2025-02-03 17:28:17 -0500 (Mon, 03 Feb 2025) EndedAt: 2025-02-03 17:29:00 -0500 (Mon, 03 Feb 2025) EllapsedTime: 43.0 seconds RetCode: 0 Status: OK PackageFile: gDRcore_1.5.4.tar.gz PackageFileSize: 1.09 MiB