Package: gDRcore Version: 1.5.4 Command: /home/biocbuild/bbs-3.21-bioc/R/bin/R CMD INSTALL gDRcore StartedAt: 2025-02-09 15:37:20 -0500 (Sun, 09 Feb 2025) EndedAt: 2025-02-09 15:37:35 -0500 (Sun, 09 Feb 2025) EllapsedTime: 15.0 seconds RetCode: 0 Status: OK