Package: gDRimport Version: 1.5.6 Command: /Library/Frameworks/R.framework/Resources/bin/R CMD INSTALL gDRimport StartedAt: 2025-02-09 15:42:04 -0500 (Sun, 09 Feb 2025) EndedAt: 2025-02-09 15:42:37 -0500 (Sun, 09 Feb 2025) EllapsedTime: 33.8 seconds RetCode: 0 Status: OK