Package: gDRimport Version: 1.5.6 Command: /home/biocbuild/bbs-3.21-bioc/R/bin/R CMD build --keep-empty-dirs --no-resave-data gDRimport StartedAt: 2025-02-09 17:19:32 -0500 (Sun, 09 Feb 2025) EndedAt: 2025-02-09 17:20:20 -0500 (Sun, 09 Feb 2025) EllapsedTime: 48.1 seconds RetCode: 0 Status: OK PackageFile: gDRimport_1.5.6.tar.gz PackageFileSize: 3.009 MiB