Package: gDRimport Version: 1.5.6 Command: /home/biocbuild/bbs-3.21-bioc/R/bin/R CMD check --install=check:gDRimport.install-out.txt --library=/home/biocbuild/bbs-3.21-bioc/R/site-library --timings gDRimport_1.5.6.tar.gz StartedAt: 2025-02-09 22:29:21 -0500 (Sun, 09 Feb 2025) EndedAt: 2025-02-09 22:33:04 -0500 (Sun, 09 Feb 2025) EllapsedTime: 223.3 seconds RetCode: 0 Status: OK CheckDir: gDRimport.Rcheck Warnings: 0