Package: gDRutils Version: 1.5.10 Maintainer: Arkadiusz Gladki MaintainerEmail: gladki.arkadiusz at gmail.com git_url: https://git.bioconductor.org/packages/gDRutils git_branch: devel git_last_commit: 37e8540 git_last_commit_date: 2025-02-05 17:25:42 -0500 (Wed, 05 Feb 2025)