Package: gDRutils Version: 1.5.10 Command: rm -rf gDRutils.buildbin-libdir && mkdir gDRutils.buildbin-libdir && /Users/biocbuild/BBS/utils/build-universal.sh gDRutils_1.5.10.tar.gz /Library/Frameworks/R.framework/Resources/bin/R gDRutils.buildbin-libdir StartedAt: 2025-02-10 00:54:30 -0500 (Mon, 10 Feb 2025) EndedAt: 2025-02-10 00:55:05 -0500 (Mon, 10 Feb 2025) EllapsedTime: 34.8 seconds RetCode: 0 Status: OK PackageFile: gDRutils_1.5.10.tgz PackageFileSize: 632.4 KiB