Package: gDRutils Version: 1.5.10 Command: /Library/Frameworks/R.framework/Resources/bin/R CMD check --install=check:gDRutils.install-out.txt --library=/Library/Frameworks/R.framework/Resources/library --no-vignettes --timings gDRutils_1.5.10.tar.gz StartedAt: 2025-02-09 20:49:54 -0500 (Sun, 09 Feb 2025) EndedAt: 2025-02-09 20:54:22 -0500 (Sun, 09 Feb 2025) EllapsedTime: 267.5 seconds RetCode: 0 Status: OK CheckDir: gDRutils.Rcheck Warnings: 0